BEGIN:VCALENDAR
VERSION:2.0
PRODID:-//Electronics Representatives Association - ECPv6.15.17.1//NONSGML v1.0//EN
CALSCALE:GREGORIAN
METHOD:PUBLISH
X-ORIGINAL-URL:https://era.org
X-WR-CALDESC:Events for Electronics Representatives Association
REFRESH-INTERVAL;VALUE=DURATION:PT1H
X-Robots-Tag:noindex
X-PUBLISHED-TTL:PT1H
BEGIN:VTIMEZONE
TZID:America/Chicago
BEGIN:DAYLIGHT
TZOFFSETFROM:-0600
TZOFFSETTO:-0500
TZNAME:CDT
DTSTART:20240310T080000
END:DAYLIGHT
BEGIN:STANDARD
TZOFFSETFROM:-0500
TZOFFSETTO:-0600
TZNAME:CST
DTSTART:20241103T070000
END:STANDARD
BEGIN:DAYLIGHT
TZOFFSETFROM:-0600
TZOFFSETTO:-0500
TZNAME:CDT
DTSTART:20250309T080000
END:DAYLIGHT
BEGIN:STANDARD
TZOFFSETFROM:-0500
TZOFFSETTO:-0600
TZNAME:CST
DTSTART:20251102T070000
END:STANDARD
BEGIN:DAYLIGHT
TZOFFSETFROM:-0600
TZOFFSETTO:-0500
TZNAME:CDT
DTSTART:20260308T080000
END:DAYLIGHT
BEGIN:STANDARD
TZOFFSETFROM:-0500
TZOFFSETTO:-0600
TZNAME:CST
DTSTART:20261101T070000
END:STANDARD
END:VTIMEZONE
BEGIN:VEVENT
DTSTART;TZID=America/Chicago:20250903T083000
DTEND;TZID=America/Chicago:20250903T133000
DTSTAMP:20260421T084750
CREATED:20250701T135857Z
LAST-MODIFIED:20250721T183110Z
UID:10000027-1756888200-1756906200@era.org
SUMMARY:Minnesota ERA AI "Deep Dive" with Sam Richter
DESCRIPTION:Amp up your AI skills with the Minnesota ERA chapter at this valuable\, in-person training session with Sam Richter\, who will take us on a 3-hour “deep dive” of various AI tools and technology\, with hands-on demonstrations. \nLunch included! \nPlease pass this invite onto your colleagues\, principals and customers! \nDATE & TIME:\nWednesday\, September 3\, 2025\n8:30 a.m. – 1:00 p.m. CDT \nLOCATION:\nBloomington Event Center\n1114 American Boulevard West\nBloomington\, MN 55420 \nCOST:\nERA members: $75\nNon-members: $85 \n*Fee includes lunch and training. \nAI Deep Dive Flyer\nREGISTER TODAY!
URL:https://era.org/event/56544/
LOCATION:Bloomington Event Center\, 1114 American Boulevard West\, Bloomington\, 55420\, United States
ORGANIZER;CN="Cary Klingner":MAILTO:cklingner@northporteng.com
END:VEVENT
END:VCALENDAR