BEGIN:VCALENDAR
VERSION:2.0
PRODID:-//Electronics Representatives Association - ECPv6.15.17.1//NONSGML v1.0//EN
CALSCALE:GREGORIAN
METHOD:PUBLISH
X-WR-CALNAME:Electronics Representatives Association
X-ORIGINAL-URL:https://era.org
X-WR-CALDESC:Events for Electronics Representatives Association
REFRESH-INTERVAL;VALUE=DURATION:PT1H
X-Robots-Tag:noindex
X-PUBLISHED-TTL:PT1H
BEGIN:VTIMEZONE
TZID:America/Los_Angeles
BEGIN:DAYLIGHT
TZOFFSETFROM:-0800
TZOFFSETTO:-0700
TZNAME:PDT
DTSTART:20250309T100000
END:DAYLIGHT
BEGIN:STANDARD
TZOFFSETFROM:-0700
TZOFFSETTO:-0800
TZNAME:PST
DTSTART:20251102T090000
END:STANDARD
BEGIN:DAYLIGHT
TZOFFSETFROM:-0800
TZOFFSETTO:-0700
TZNAME:PDT
DTSTART:20260308T100000
END:DAYLIGHT
BEGIN:STANDARD
TZOFFSETFROM:-0700
TZOFFSETTO:-0800
TZNAME:PST
DTSTART:20261101T090000
END:STANDARD
BEGIN:DAYLIGHT
TZOFFSETFROM:-0800
TZOFFSETTO:-0700
TZNAME:PDT
DTSTART:20270314T100000
END:DAYLIGHT
BEGIN:STANDARD
TZOFFSETFROM:-0700
TZOFFSETTO:-0800
TZNAME:PST
DTSTART:20271107T090000
END:STANDARD
END:VTIMEZONE
BEGIN:VEVENT
DTSTART;TZID=America/Los_Angeles:20260610T070000
DTEND;TZID=America/Los_Angeles:20260610T150000
DTSTAMP:20260423T110701
CREATED:20260420T175844Z
LAST-MODIFIED:20260422T184224Z
UID:10000083-1781074800-1781103600@era.org
SUMMARY:3rd Annual Northern California ERA Golf Event
DESCRIPTION:You’re invited to the Northern California ERA’s 3rd annual golf event\, benefiting Special Olympics Northern California! Get ready for a fun-filled day of golf\, networking and prizes— all while supporting an incredible cause. \nDATE & TIME:\nWednesday June 10\, 2026\nRegistration and Warm-ups: 7:00 a.m.\nBreakfast & Shotgun Start: 8:00 a.m.\nBuffet lunch: 1:30 p.m. \nLOCATION:\nCoyote Creek Golf Course\n1 Coyote Creek Golf Dr\nMorgan Hill\, CA 95037 \nCOST:\n$170/Golfer (includes breakfast & lunch)\n$50/Non-Golfer (includes lunch) \n  \nREGISTER TODAY! \n \nSponsorship Opportunities: We have a variety of sponsorship tiers and packages available! Please review our Sponsorship Matrix (below) and reach out to Steve Mendez at smendez@rechtassociates.com with any questions\, and to sponsor. We are grateful to have several rep firms and industry partners returning to sponsor this exciting event. \n 
URL:https://era.org/event/3rd-annual-northern-california-era-golf-event/
LOCATION:Coyote Creek Golf Course\, 1 Coyote Creek Golf Dr\, Morgan Hill\,\, CA\, 95037\, United States
ORGANIZER;CN="Steve Mendez":MAILTO:https://coyotecreekgolf.com/
END:VEVENT
END:VCALENDAR