BEGIN:VCALENDAR
VERSION:2.0
PRODID:-//Electronics Representatives Association - ECPv6.15.17.1//NONSGML v1.0//EN
CALSCALE:GREGORIAN
METHOD:PUBLISH
X-ORIGINAL-URL:https://era.org
X-WR-CALDESC:Events for Electronics Representatives Association
REFRESH-INTERVAL;VALUE=DURATION:PT1H
X-Robots-Tag:noindex
X-PUBLISHED-TTL:PT1H
BEGIN:VTIMEZONE
TZID:America/Los_Angeles
BEGIN:DAYLIGHT
TZOFFSETFROM:-0800
TZOFFSETTO:-0700
TZNAME:PDT
DTSTART:20240310T100000
END:DAYLIGHT
BEGIN:STANDARD
TZOFFSETFROM:-0700
TZOFFSETTO:-0800
TZNAME:PST
DTSTART:20241103T090000
END:STANDARD
BEGIN:DAYLIGHT
TZOFFSETFROM:-0800
TZOFFSETTO:-0700
TZNAME:PDT
DTSTART:20250309T100000
END:DAYLIGHT
BEGIN:STANDARD
TZOFFSETFROM:-0700
TZOFFSETTO:-0800
TZNAME:PST
DTSTART:20251102T090000
END:STANDARD
BEGIN:DAYLIGHT
TZOFFSETFROM:-0800
TZOFFSETTO:-0700
TZNAME:PDT
DTSTART:20260308T100000
END:DAYLIGHT
BEGIN:STANDARD
TZOFFSETFROM:-0700
TZOFFSETTO:-0800
TZNAME:PST
DTSTART:20261101T090000
END:STANDARD
END:VTIMEZONE
BEGIN:VEVENT
DTSTART;TZID=America/Los_Angeles:20251211T113000
DTEND;TZID=America/Los_Angeles:20251211T133000
DTSTAMP:20260421T040722
CREATED:20251028T155522Z
LAST-MODIFIED:20251030T113320Z
UID:10000048-1765452600-1765459800@era.org
SUMMARY:Northern California ERA Holiday Lunch
DESCRIPTION:Celebrate the Season of Giving by joining us for a holiday lunch filled with cheer and goodwill. Together\, we can make a difference in the lives of children and families in need. Your support will directly impact the outstanding care and research conducted at Lucile Packard Children’s Hospital Stanford. \nYour generosity can bring smiles and joy to young parents during this special time of year. Let’s come together to share the holiday spirit and make a positive impact on our community. \nCOST: $70 per person – ERA Member; $80 per person – Non-member \nDATE & TIME:\nThursday\, Dec. 11\, 2025\n11:30 a.m. – 1:30 p.m. PST \nLOCATION:\nMaggiano’s Little Italy\n3055 Olin Ave Suite 1000\nSan Jose\, CA 95128 \nREGISTER TODAY!
URL:https://era.org/event/northern-california-era-holiday-lunch/
LOCATION:Maggiano’s Little Italy\, 3055 Olin Ave Suite 1000\, San Jose\, CA\, 95128\, United States
ORGANIZER;CN="Lori Bruno":MAILTO:Lori@luscombridge.com
END:VEVENT
END:VCALENDAR